BEGIN:VCALENDAR
VERSION:2.0
PRODID:-//Hartley Valley Farm - ECPv4.1.3//NONSGML v1.0//EN
CALSCALE:GREGORIAN
METHOD:PUBLISH
X-WR-CALNAME:Hartley Valley Farm
X-ORIGINAL-URL:http://hartleyfarm.com.au
X-WR-CALDESC:Events for Hartley Valley Farm
BEGIN:VEVENT
DTSTART;TZID=UTC+0:20170909T080000
DTEND;TZID=UTC+0:20170909T170000
DTSTAMP:20190226T203713
CREATED:20170730T032809
LAST-MODIFIED:20170730T032809
UID:955-1504944000-1504976400@hartleyfarm.com.au
SUMMARY:Working Bee
DESCRIPTION:Help keep our farm looking fabulous! Jobs available for all ages and skill sets. Please be at the stables for an 8am start/sign-in\, in order to be eligible to have your Working Bee Levy refunded.
URL:http://hartleyfarm.com.au/event/working-bee/
ATTACH;FMTTYPE=image/jpeg:http://hartleyfarm.com.au/wp-content/uploads/41199_wo.jpg
END:VEVENT
END:VCALENDAR