BEGIN:VCALENDAR
VERSION:2.0
PRODID:-//Hartley Valley Farm - ECPv4.1.3//NONSGML v1.0//EN
CALSCALE:GREGORIAN
METHOD:PUBLISH
X-WR-CALNAME:Hartley Valley Farm
X-ORIGINAL-URL:http://hartleyfarm.com.au
X-WR-CALDESC:Events for Hartley Valley Farm
BEGIN:VEVENT
DTSTART;TZID=UTC+0:20170819T080000
DTEND;TZID=UTC+0:20170819T170000
DTSTAMP:20190226T203657
CREATED:20170730T031951
LAST-MODIFIED:20170730T031951
UID:952-1503129600-1503162000@hartleyfarm.com.au
SUMMARY:Rally Day
DESCRIPTION:A fun day offering various challenges for all levels of riders.
URL:http://hartleyfarm.com.au/event/rally-day/
ATTACH;FMTTYPE=image/jpeg:http://hartleyfarm.com.au/wp-content/uploads/P3280267.jpg
END:VEVENT
END:VCALENDAR