BEGIN:VCALENDAR
VERSION:2.0
PRODID:-//Hartley Valley Farm - ECPv4.1.3//NONSGML v1.0//EN
CALSCALE:GREGORIAN
METHOD:PUBLISH
X-WR-CALNAME:Hartley Valley Farm
X-ORIGINAL-URL:http://hartleyfarm.com.au
X-WR-CALDESC:Events for Hartley Valley Farm
BEGIN:VEVENT
DTSTART;TZID=UTC+0:20171231T190000
DTEND;TZID=UTC+0:20180101T000000
DTSTAMP:20190226T203730
CREATED:20171226T025935
LAST-MODIFIED:20171226T025935
UID:1114-1514746800-1514764800@hartleyfarm.com.au
SUMMARY:New Year's Eve
DESCRIPTION:Join your farm friends in celebrating the year that was and welcoming in 2018! From 7pm\, there will be a party at the pool – complete with karaoke machine. Please BYO nibblies and drinks. Dinner will not be provided. See you there!
URL:http://hartleyfarm.com.au/event/new-years-eve/
ATTACH;FMTTYPE=image/jpeg:http://hartleyfarm.com.au/wp-content/uploads/download-1.jpg
END:VEVENT
END:VCALENDAR