BEGIN:VCALENDAR
VERSION:2.0
PRODID:-//Hartley Valley Farm - ECPv4.1.3//NONSGML v1.0//EN
CALSCALE:GREGORIAN
METHOD:PUBLISH
X-WR-CALNAME:Hartley Valley Farm
X-ORIGINAL-URL:http://hartleyfarm.com.au
X-WR-CALDESC:Events for Hartley Valley Farm
BEGIN:VEVENT
DTSTART;TZID=UTC+0:20161119T083000
DTEND;TZID=UTC+0:20161119T083000
DTSTAMP:20190226T203639
CREATED:20160517T013350
LAST-MODIFIED:20160918T091003
UID:603-1479544200-1479544200@hartleyfarm.com.au
SUMMARY:Bike Christmas Party and Fun Day
DESCRIPTION:Following the last bike day for the year\, the bike club Christmas party will be held! Both events are open to all farm members. More info and costs to come closer to the time.
URL:http://hartleyfarm.com.au/event/bikefunday/
LOCATION:Little Hartley\, NSW\, Australia
ATTACH;FMTTYPE=image/jpeg:http://hartleyfarm.com.au/wp-content/uploads/DSC00850-1.jpg
END:VEVENT
END:VCALENDAR