BEGIN:VCALENDAR
VERSION:2.0
PRODID:-//Hartley Valley Farm - ECPv4.1.3//NONSGML v1.0//EN
CALSCALE:GREGORIAN
METHOD:PUBLISH
X-WR-CALNAME:Hartley Valley Farm
X-ORIGINAL-URL:http://hartleyfarm.com.au
X-WR-CALDESC:Events for Hartley Valley Farm
BEGIN:VEVENT
DTSTART;TZID=UTC+0:20170819T083000
DTEND;TZID=UTC+0:20170819T170000
DTSTAMP:20190226T203702
CREATED:20160918T084759
LAST-MODIFIED:20170730T031629
UID:765-1503131400-1503162000@hartleyfarm.com.au
SUMMARY:Bike Fun Day
DESCRIPTION:This is perfect for those who wish to put their dirt bike riding skills to the test against others in a safe\, fun environment. Great BBQ lunch available too!
URL:http://hartleyfarm.com.au/event/bike-fun-day/
LOCATION:Little Hartley\, NSW\, Australia
ATTACH;FMTTYPE=image/jpeg:http://hartleyfarm.com.au/wp-content/uploads/P5080070-2.jpg
END:VEVENT
END:VCALENDAR